BEGIN:VCALENDAR
VERSION:2.0
PRODID:-//Mariposa Community Health Center - ECPv6.15.17.1//NONSGML v1.0//EN
CALSCALE:GREGORIAN
METHOD:PUBLISH
X-WR-CALNAME:Mariposa Community Health Center
X-ORIGINAL-URL:https://www.mariposachc.net
X-WR-CALDESC:Events for Mariposa Community Health Center
REFRESH-INTERVAL;VALUE=DURATION:PT1H
X-Robots-Tag:noindex
X-PUBLISHED-TTL:PT1H
BEGIN:VTIMEZONE
TZID:America/Phoenix
BEGIN:STANDARD
TZOFFSETFROM:-0700
TZOFFSETTO:-0700
TZNAME:MST
DTSTART:20180101T000000
END:STANDARD
END:VTIMEZONE
BEGIN:VEVENT
DTSTART;TZID=America/Phoenix:20190701T173000
DTEND;TZID=America/Phoenix:20190701T183000
DTSTAMP:20260425T032010
CREATED:20190708T232522Z
LAST-MODIFIED:20190708T232522Z
UID:4640-1562002200-1562005800@www.mariposachc.net
SUMMARY:Yoga - Consulado de México
DESCRIPTION:
URL:https://www.mariposachc.net/event/yoga-consulado-de-mexico/
LOCATION:Consulado General de México
CATEGORIES:Mind/Body
END:VEVENT
BEGIN:VEVENT
DTSTART;TZID=America/Phoenix:20190628T160000
DTEND;TZID=America/Phoenix:20190628T190000
DTSTAMP:20260425T032010
CREATED:20190708T235719Z
LAST-MODIFIED:20190708T235719Z
UID:4671-1561737600-1561748400@www.mariposachc.net
SUMMARY:Farmers Market - Nogales "Little" Mercado
DESCRIPTION:Visit us in Downtown Nogales!\nTemporarily relocated: 250 N. Grand Ave
URL:https://www.mariposachc.net/event/farmers-market-nogales-little-mercado-2019-06-28/
LOCATION:Downtown Nogales\, 250 N. Grand Ave\, Nogales\, AZ\, 85621\, United States
END:VEVENT
BEGIN:VEVENT
DTSTART;TZID=America/Phoenix:20190621T160000
DTEND;TZID=America/Phoenix:20190621T190000
DTSTAMP:20260425T032010
CREATED:20190708T235719Z
LAST-MODIFIED:20190708T235719Z
UID:4670-1561132800-1561143600@www.mariposachc.net
SUMMARY:Farmers Market - Nogales "Little" Mercado
DESCRIPTION:Visit us in Downtown Nogales!\nTemporarily relocated: 250 N. Grand Ave
URL:https://www.mariposachc.net/event/farmers-market-nogales-little-mercado-2019-06-21/
LOCATION:Downtown Nogales\, 250 N. Grand Ave\, Nogales\, AZ\, 85621\, United States
END:VEVENT
BEGIN:VEVENT
DTSTART;TZID=America/Phoenix:20190614T160000
DTEND;TZID=America/Phoenix:20190614T190000
DTSTAMP:20260425T032010
CREATED:20190708T235719Z
LAST-MODIFIED:20190708T235719Z
UID:4669-1560528000-1560538800@www.mariposachc.net
SUMMARY:Farmers Market - Nogales "Little" Mercado
DESCRIPTION:Visit us in Downtown Nogales!\nTemporarily relocated: 250 N. Grand Ave
URL:https://www.mariposachc.net/event/farmers-market-nogales-little-mercado-2019-06-14/
LOCATION:Downtown Nogales\, 250 N. Grand Ave\, Nogales\, AZ\, 85621\, United States
END:VEVENT
BEGIN:VEVENT
DTSTART;TZID=America/Phoenix:20190607T160000
DTEND;TZID=America/Phoenix:20190607T190000
DTSTAMP:20260425T032010
CREATED:20190708T235719Z
LAST-MODIFIED:20190708T235719Z
UID:4668-1559923200-1559934000@www.mariposachc.net
SUMMARY:Farmers Market - Nogales "Little" Mercado
DESCRIPTION:Visit us in Downtown Nogales!\nTemporarily relocated: 250 N. Grand Ave
URL:https://www.mariposachc.net/event/farmers-market-nogales-little-mercado-2019-06-07/
LOCATION:Downtown Nogales\, 250 N. Grand Ave\, Nogales\, AZ\, 85621\, United States
END:VEVENT
BEGIN:VEVENT
DTSTART;TZID=America/Phoenix:20190531T160000
DTEND;TZID=America/Phoenix:20190531T190000
DTSTAMP:20260425T032010
CREATED:20190708T235719Z
LAST-MODIFIED:20190708T235719Z
UID:4667-1559318400-1559329200@www.mariposachc.net
SUMMARY:Farmers Market - Nogales "Little" Mercado
DESCRIPTION:Visit us in Downtown Nogales!\nTemporarily relocated: 250 N. Grand Ave
URL:https://www.mariposachc.net/event/farmers-market-nogales-little-mercado-2019-05-31/
LOCATION:Downtown Nogales\, 250 N. Grand Ave\, Nogales\, AZ\, 85621\, United States
END:VEVENT
BEGIN:VEVENT
DTSTART;TZID=America/Phoenix:20190524T160000
DTEND;TZID=America/Phoenix:20190524T190000
DTSTAMP:20260425T032010
CREATED:20190708T235719Z
LAST-MODIFIED:20190708T235719Z
UID:4666-1558713600-1558724400@www.mariposachc.net
SUMMARY:Farmers Market - Nogales "Little" Mercado
DESCRIPTION:Visit us in Downtown Nogales!\nTemporarily relocated: 250 N. Grand Ave
URL:https://www.mariposachc.net/event/farmers-market-nogales-little-mercado-2019-05-24/
LOCATION:Downtown Nogales\, 250 N. Grand Ave\, Nogales\, AZ\, 85621\, United States
END:VEVENT
BEGIN:VEVENT
DTSTART;TZID=America/Phoenix:20190517T160000
DTEND;TZID=America/Phoenix:20190517T190000
DTSTAMP:20260425T032010
CREATED:20190708T235719Z
LAST-MODIFIED:20190708T235719Z
UID:4665-1558108800-1558119600@www.mariposachc.net
SUMMARY:Farmers Market - Nogales "Little" Mercado
DESCRIPTION:Visit us in Downtown Nogales!\nTemporarily relocated: 250 N. Grand Ave
URL:https://www.mariposachc.net/event/farmers-market-nogales-little-mercado-2019-05-17/
LOCATION:Downtown Nogales\, 250 N. Grand Ave\, Nogales\, AZ\, 85621\, United States
END:VEVENT
BEGIN:VEVENT
DTSTART;TZID=America/Phoenix:20190510T160000
DTEND;TZID=America/Phoenix:20190510T190000
DTSTAMP:20260425T032010
CREATED:20190708T235719Z
LAST-MODIFIED:20190708T235719Z
UID:4664-1557504000-1557514800@www.mariposachc.net
SUMMARY:Farmers Market - Nogales "Little" Mercado
DESCRIPTION:Visit us in Downtown Nogales!\nTemporarily relocated: 250 N. Grand Ave
URL:https://www.mariposachc.net/event/farmers-market-nogales-little-mercado-2019-05-10/
LOCATION:Downtown Nogales\, 250 N. Grand Ave\, Nogales\, AZ\, 85621\, United States
END:VEVENT
BEGIN:VEVENT
DTSTART;TZID=America/Phoenix:20190503T160000
DTEND;TZID=America/Phoenix:20190503T190000
DTSTAMP:20260425T032010
CREATED:20190708T235719Z
LAST-MODIFIED:20190813T170912Z
UID:4661-1556899200-1556910000@www.mariposachc.net
SUMMARY:Farmers Market - Nogales "Little" Mercado
DESCRIPTION:Visit us in Downtown Nogales!\nTemporarily relocated: 250 N. Grand Ave
URL:https://www.mariposachc.net/event/farmers-market-nogales-little-mercado/
LOCATION:Downtown Nogales\, 250 N. Grand Ave\, Nogales\, AZ\, 85621\, United States
ATTACH;FMTTYPE=image/jpeg:https://www.mariposachc.net/wp-content/uploads/2019/07/mercado-2.jpg
END:VEVENT
END:VCALENDAR