BEGIN:VCALENDAR
VERSION:2.0
PRODID:-//Mariposa Community Health Center - ECPv6.15.17.1//NONSGML v1.0//EN
CALSCALE:GREGORIAN
METHOD:PUBLISH
X-WR-CALNAME:Mariposa Community Health Center
X-ORIGINAL-URL:https://www.mariposachc.net
X-WR-CALDESC:Events for Mariposa Community Health Center
REFRESH-INTERVAL;VALUE=DURATION:PT1H
X-Robots-Tag:noindex
X-PUBLISHED-TTL:PT1H
BEGIN:VTIMEZONE
TZID:America/Phoenix
BEGIN:STANDARD
TZOFFSETFROM:-0700
TZOFFSETTO:-0700
TZNAME:MST
DTSTART:20180101T000000
END:STANDARD
END:VTIMEZONE
BEGIN:VEVENT
DTSTART;TZID=America/Phoenix:20190718T100000
DTEND;TZID=America/Phoenix:20190718T110000
DTSTAMP:20260425T034439
CREATED:20190708T225043Z
LAST-MODIFIED:20190708T225133Z
UID:4584-1563444000-1563447600@www.mariposachc.net
SUMMARY:Zumba - Rio Rico Community Center
DESCRIPTION:
URL:https://www.mariposachc.net/event/zumba-2-2019-07-18/
LOCATION:Rio Rico Community Center\, 391 Avenida Coatimundi\, Rio Rico\, AZ\, 85648\, United States
CATEGORIES:Fitness
END:VEVENT
BEGIN:VEVENT
DTSTART;TZID=America/Phoenix:20190718T090000
DTEND;TZID=America/Phoenix:20190718T100000
DTSTAMP:20260425T034439
CREATED:20190708T230951Z
LAST-MODIFIED:20190708T230951Z
UID:4617-1563440400-1563444000@www.mariposachc.net
SUMMARY:Aerobics - Rio Rico Community Center
DESCRIPTION:
URL:https://www.mariposachc.net/event/aerobics-rio-rico-community-center-2019-07-18/
LOCATION:Rio Rico Community Center\, 391 Avenida Coatimundi\, Rio Rico\, AZ\, 85648\, United States
CATEGORIES:Fitness
END:VEVENT
BEGIN:VEVENT
DTSTART;TZID=America/Phoenix:20190718T083000
DTEND;TZID=America/Phoenix:20190718T103000
DTSTAMP:20260425T034439
CREATED:20190708T234757Z
LAST-MODIFIED:20190708T234757Z
UID:4659-1563438600-1563445800@www.mariposachc.net
SUMMARY:Citizenship Classes - Consulado General de México
DESCRIPTION:520 287-2521
URL:https://www.mariposachc.net/event/citizenship-classes-consulado-general-de-mexico-2019-07-18/
LOCATION:Consulado General de México
CATEGORIES:Classes
END:VEVENT
BEGIN:VEVENT
DTSTART;TZID=America/Phoenix:20190717T173000
DTEND;TZID=America/Phoenix:20190717T183000
DTSTAMP:20260425T034439
CREATED:20190708T230206Z
LAST-MODIFIED:20190708T230206Z
UID:4600-1563384600-1563388200@www.mariposachc.net
SUMMARY:Zumba - Consulado General de México
DESCRIPTION:
URL:https://www.mariposachc.net/event/zumba-consulado-general-de-mexico-2019-07-17-2/
LOCATION:Consulado General de México
CATEGORIES:Fitness
END:VEVENT
BEGIN:VEVENT
DTSTART;TZID=America/Phoenix:20190717T110000
DTEND;TZID=America/Phoenix:20190717T120000
DTSTAMP:20260425T034439
CREATED:20190708T231938Z
LAST-MODIFIED:20190708T231938Z
UID:4636-1563361200-1563364800@www.mariposachc.net
SUMMARY:Yoga - Rio Rico Community Center
DESCRIPTION:
URL:https://www.mariposachc.net/event/yoga-rio-rico-community-center-2019-07-17/
LOCATION:Rio Rico Community Center\, 391 Avenida Coatimundi\, Rio Rico\, AZ\, 85648\, United States
CATEGORIES:Mind/Body
END:VEVENT
BEGIN:VEVENT
DTSTART;TZID=America/Phoenix:20190717T103000
DTEND;TZID=America/Phoenix:20190717T113000
DTSTAMP:20260425T034439
CREATED:20190708T230206Z
LAST-MODIFIED:20190708T230206Z
UID:4599-1563359400-1563363000@www.mariposachc.net
SUMMARY:Zumba - Consulado General de México
DESCRIPTION:
URL:https://www.mariposachc.net/event/zumba-consulado-general-de-mexico-2019-07-17/
LOCATION:Consulado General de México
CATEGORIES:Fitness
END:VEVENT
BEGIN:VEVENT
DTSTART;TZID=America/Phoenix:20190717T100000
DTEND;TZID=America/Phoenix:20190717T110000
DTSTAMP:20260425T034439
CREATED:20190708T230951Z
LAST-MODIFIED:20190708T230951Z
UID:4616-1563357600-1563361200@www.mariposachc.net
SUMMARY:Aerobics - Rio Rico Community Center
DESCRIPTION:
URL:https://www.mariposachc.net/event/aerobics-rio-rico-community-center-2019-07-17/
LOCATION:Rio Rico Community Center\, 391 Avenida Coatimundi\, Rio Rico\, AZ\, 85648\, United States
CATEGORIES:Fitness
END:VEVENT
BEGIN:VEVENT
DTSTART;TZID=America/Phoenix:20190716T173000
DTEND;TZID=America/Phoenix:20190716T183000
DTSTAMP:20260425T034439
CREATED:20190708T232522Z
LAST-MODIFIED:20190708T232522Z
UID:4649-1563298200-1563301800@www.mariposachc.net
SUMMARY:Yoga - Consulado de México
DESCRIPTION:
URL:https://www.mariposachc.net/event/yoga-consulado-de-mexico-2019-07-16-2/
LOCATION:Consulado General de México
CATEGORIES:Mind/Body
END:VEVENT
BEGIN:VEVENT
DTSTART;TZID=America/Phoenix:20190716T103000
DTEND;TZID=America/Phoenix:20190716T113000
DTSTAMP:20260425T034439
CREATED:20190708T232522Z
LAST-MODIFIED:20190708T232522Z
UID:4648-1563273000-1563276600@www.mariposachc.net
SUMMARY:Yoga - Consulado de México
DESCRIPTION:
URL:https://www.mariposachc.net/event/yoga-consulado-de-mexico-2019-07-16/
LOCATION:Consulado General de México
CATEGORIES:Mind/Body
END:VEVENT
BEGIN:VEVENT
DTSTART;TZID=America/Phoenix:20190716T100000
DTEND;TZID=America/Phoenix:20190716T110000
DTSTAMP:20260425T034439
CREATED:20190708T230532Z
LAST-MODIFIED:20190708T230532Z
UID:4608-1563271200-1563274800@www.mariposachc.net
SUMMARY:Aerobics - Bowman Senior Residences
DESCRIPTION:
URL:https://www.mariposachc.net/event/aerobics-bowman-senior-residences-2019-07-16/
LOCATION:Bowman Senior Residencies
CATEGORIES:Fitness
END:VEVENT
BEGIN:VEVENT
DTSTART;TZID=America/Phoenix:20190716T090000
DTEND;TZID=America/Phoenix:20190716T100000
DTSTAMP:20260425T034439
CREATED:20190708T231634Z
LAST-MODIFIED:20190708T231634Z
UID:4626-1563267600-1563271200@www.mariposachc.net
SUMMARY:Yoga - Bowman Senior Residencies
DESCRIPTION:
URL:https://www.mariposachc.net/event/yoga-bowman-senior-residencies-2019-07-16/
LOCATION:Bowman Senior Residencies
CATEGORIES:Mind/Body
END:VEVENT
BEGIN:VEVENT
DTSTART;TZID=America/Phoenix:20190715T173000
DTEND;TZID=America/Phoenix:20190715T183000
DTSTAMP:20260425T034439
CREATED:20190708T232522Z
LAST-MODIFIED:20190708T232522Z
UID:4647-1563211800-1563215400@www.mariposachc.net
SUMMARY:Yoga - Consulado de México
DESCRIPTION:
URL:https://www.mariposachc.net/event/yoga-consulado-de-mexico-2019-07-15/
LOCATION:Consulado General de México
CATEGORIES:Mind/Body
END:VEVENT
BEGIN:VEVENT
DTSTART;TZID=America/Phoenix:20190712T160000
DTEND;TZID=America/Phoenix:20190712T190000
DTSTAMP:20260425T034439
CREATED:20190708T235719Z
LAST-MODIFIED:20190709T000128Z
UID:4673-1562947200-1562958000@www.mariposachc.net
SUMMARY:Farmers Market - Nogales "Little" Mercado
DESCRIPTION:Visit us in Downtown Nogales!\nTemporarily relocated: 250 N. Grand Ave
URL:https://www.mariposachc.net/event/farmers-market-nogales-little-mercado-2019-07-12/
LOCATION:Downtown Nogales\, 250 N. Grand Ave\, Nogales\, AZ\, 85621\, United States
END:VEVENT
BEGIN:VEVENT
DTSTART;TZID=America/Phoenix:20190712T110000
DTEND;TZID=America/Phoenix:20190712T120000
DTSTAMP:20260425T034439
CREATED:20190708T231634Z
LAST-MODIFIED:20190708T231634Z
UID:4625-1562929200-1562932800@www.mariposachc.net
SUMMARY:Yoga - Bowman Senior Residencies
DESCRIPTION:
URL:https://www.mariposachc.net/event/yoga-bowman-senior-residencies-2019-07-12/
LOCATION:Bowman Senior Residencies
CATEGORIES:Mind/Body
END:VEVENT
BEGIN:VEVENT
DTSTART;TZID=America/Phoenix:20190712T100000
DTEND;TZID=America/Phoenix:20190712T110000
DTSTAMP:20260425T034439
CREATED:20190708T224849Z
LAST-MODIFIED:20190708T225202Z
UID:4577-1562925600-1562929200@www.mariposachc.net
SUMMARY:Zumba - Bowman Senior Residencies
DESCRIPTION:
URL:https://www.mariposachc.net/event/zumba-2019-07-12/
LOCATION:Bowman Senior Residencies
CATEGORIES:Fitness
END:VEVENT
BEGIN:VEVENT
DTSTART;TZID=America/Phoenix:20190711T110000
DTEND;TZID=America/Phoenix:20190711T120000
DTSTAMP:20260425T034439
CREATED:20190708T231938Z
LAST-MODIFIED:20190708T231938Z
UID:4635-1562842800-1562846400@www.mariposachc.net
SUMMARY:Yoga - Rio Rico Community Center
DESCRIPTION:
URL:https://www.mariposachc.net/event/yoga-rio-rico-community-center-2019-07-11/
LOCATION:Rio Rico Community Center\, 391 Avenida Coatimundi\, Rio Rico\, AZ\, 85648\, United States
CATEGORIES:Mind/Body
END:VEVENT
BEGIN:VEVENT
DTSTART;TZID=America/Phoenix:20190711T103000
DTEND;TZID=America/Phoenix:20190711T120000
DTSTAMP:20260425T034439
CREATED:20190709T160900Z
LAST-MODIFIED:20190709T160900Z
UID:4731-1562841000-1562846400@www.mariposachc.net
SUMMARY:Happy Smile
DESCRIPTION:Dental Screening for kids 0-5 years and pregnant women.\nFlouride application for kids 0-5 years.
URL:https://www.mariposachc.net/event/happy-smile-2019-07-11/
LOCATION:MCHC PEDS
CATEGORIES:Dental
END:VEVENT
BEGIN:VEVENT
DTSTART;TZID=America/Phoenix:20190711T100000
DTEND;TZID=America/Phoenix:20190711T110000
DTSTAMP:20260425T034439
CREATED:20190708T225043Z
LAST-MODIFIED:20190708T225133Z
UID:4583-1562839200-1562842800@www.mariposachc.net
SUMMARY:Zumba - Rio Rico Community Center
DESCRIPTION:
URL:https://www.mariposachc.net/event/zumba-2-2019-07-11/
LOCATION:Rio Rico Community Center\, 391 Avenida Coatimundi\, Rio Rico\, AZ\, 85648\, United States
CATEGORIES:Fitness
END:VEVENT
BEGIN:VEVENT
DTSTART;TZID=America/Phoenix:20190711T090000
DTEND;TZID=America/Phoenix:20190711T100000
DTSTAMP:20260425T034439
CREATED:20190709T161017Z
LAST-MODIFIED:20190709T161017Z
UID:4735-1562835600-1562839200@www.mariposachc.net
SUMMARY:Happy Smile
DESCRIPTION:Dental Screening for kids 0-5 years and pregnant women.\nFlouride application for kids 0-5 years.
URL:https://www.mariposachc.net/event/happy-smile-2/
LOCATION:MCHC Rio Rico
CATEGORIES:Dental
END:VEVENT
BEGIN:VEVENT
DTSTART;TZID=America/Phoenix:20190711T090000
DTEND;TZID=America/Phoenix:20190711T100000
DTSTAMP:20260425T034439
CREATED:20190708T230951Z
LAST-MODIFIED:20190708T230951Z
UID:4615-1562835600-1562839200@www.mariposachc.net
SUMMARY:Aerobics - Rio Rico Community Center
DESCRIPTION:
URL:https://www.mariposachc.net/event/aerobics-rio-rico-community-center-2019-07-11/
LOCATION:Rio Rico Community Center\, 391 Avenida Coatimundi\, Rio Rico\, AZ\, 85648\, United States
CATEGORIES:Fitness
END:VEVENT
BEGIN:VEVENT
DTSTART;TZID=America/Phoenix:20190711T083000
DTEND;TZID=America/Phoenix:20190711T103000
DTSTAMP:20260425T034439
CREATED:20190708T234757Z
LAST-MODIFIED:20190708T234757Z
UID:4658-1562833800-1562841000@www.mariposachc.net
SUMMARY:Citizenship Classes - Consulado General de México
DESCRIPTION:520 287-2521
URL:https://www.mariposachc.net/event/citizenship-classes-consulado-general-de-mexico-2019-07-11/
LOCATION:Consulado General de México
CATEGORIES:Classes
END:VEVENT
BEGIN:VEVENT
DTSTART;TZID=America/Phoenix:20190710T173000
DTEND;TZID=America/Phoenix:20190710T183000
DTSTAMP:20260425T034439
CREATED:20190708T230206Z
LAST-MODIFIED:20190708T230206Z
UID:4598-1562779800-1562783400@www.mariposachc.net
SUMMARY:Zumba - Consulado General de México
DESCRIPTION:
URL:https://www.mariposachc.net/event/zumba-consulado-general-de-mexico-2019-07-10-2/
LOCATION:Consulado General de México
CATEGORIES:Fitness
END:VEVENT
BEGIN:VEVENT
DTSTART;TZID=America/Phoenix:20190710T110000
DTEND;TZID=America/Phoenix:20190710T120000
DTSTAMP:20260425T034439
CREATED:20190708T231938Z
LAST-MODIFIED:20190708T231938Z
UID:4634-1562756400-1562760000@www.mariposachc.net
SUMMARY:Yoga - Rio Rico Community Center
DESCRIPTION:
URL:https://www.mariposachc.net/event/yoga-rio-rico-community-center-2019-07-10/
LOCATION:Rio Rico Community Center\, 391 Avenida Coatimundi\, Rio Rico\, AZ\, 85648\, United States
CATEGORIES:Mind/Body
END:VEVENT
BEGIN:VEVENT
DTSTART;TZID=America/Phoenix:20190710T103000
DTEND;TZID=America/Phoenix:20190710T113000
DTSTAMP:20260425T034439
CREATED:20190708T230206Z
LAST-MODIFIED:20190708T230206Z
UID:4597-1562754600-1562758200@www.mariposachc.net
SUMMARY:Zumba - Consulado General de México
DESCRIPTION:
URL:https://www.mariposachc.net/event/zumba-consulado-general-de-mexico-2019-07-10/
LOCATION:Consulado General de México
CATEGORIES:Fitness
END:VEVENT
BEGIN:VEVENT
DTSTART;TZID=America/Phoenix:20190710T100000
DTEND;TZID=America/Phoenix:20190710T110000
DTSTAMP:20260425T034439
CREATED:20190708T230951Z
LAST-MODIFIED:20190708T230951Z
UID:4614-1562752800-1562756400@www.mariposachc.net
SUMMARY:Aerobics - Rio Rico Community Center
DESCRIPTION:
URL:https://www.mariposachc.net/event/aerobics-rio-rico-community-center-2019-07-10/
LOCATION:Rio Rico Community Center\, 391 Avenida Coatimundi\, Rio Rico\, AZ\, 85648\, United States
CATEGORIES:Fitness
END:VEVENT
BEGIN:VEVENT
DTSTART;TZID=America/Phoenix:20190709T173000
DTEND;TZID=America/Phoenix:20190709T183000
DTSTAMP:20260425T034439
CREATED:20190708T232522Z
LAST-MODIFIED:20190708T232522Z
UID:4646-1562693400-1562697000@www.mariposachc.net
SUMMARY:Yoga - Consulado de México
DESCRIPTION:
URL:https://www.mariposachc.net/event/yoga-consulado-de-mexico-2019-07-09-2/
LOCATION:Consulado General de México
CATEGORIES:Mind/Body
END:VEVENT
BEGIN:VEVENT
DTSTART;TZID=America/Phoenix:20190709T103000
DTEND;TZID=America/Phoenix:20190709T113000
DTSTAMP:20260425T034439
CREATED:20190708T232522Z
LAST-MODIFIED:20190708T232522Z
UID:4645-1562668200-1562671800@www.mariposachc.net
SUMMARY:Yoga - Consulado de México
DESCRIPTION:
URL:https://www.mariposachc.net/event/yoga-consulado-de-mexico-2019-07-09/
LOCATION:Consulado General de México
CATEGORIES:Mind/Body
END:VEVENT
BEGIN:VEVENT
DTSTART;TZID=America/Phoenix:20190709T100000
DTEND;TZID=America/Phoenix:20190709T110000
DTSTAMP:20260425T034439
CREATED:20190708T230532Z
LAST-MODIFIED:20190708T230532Z
UID:4607-1562666400-1562670000@www.mariposachc.net
SUMMARY:Aerobics - Bowman Senior Residences
DESCRIPTION:
URL:https://www.mariposachc.net/event/aerobics-bowman-senior-residences-2019-07-09/
LOCATION:Bowman Senior Residencies
CATEGORIES:Fitness
END:VEVENT
BEGIN:VEVENT
DTSTART;TZID=America/Phoenix:20190709T090000
DTEND;TZID=America/Phoenix:20190709T100000
DTSTAMP:20260425T034439
CREATED:20190708T231634Z
LAST-MODIFIED:20190708T231634Z
UID:4624-1562662800-1562666400@www.mariposachc.net
SUMMARY:Yoga - Bowman Senior Residencies
DESCRIPTION:
URL:https://www.mariposachc.net/event/yoga-bowman-senior-residencies-2019-07-09/
LOCATION:Bowman Senior Residencies
CATEGORIES:Mind/Body
END:VEVENT
BEGIN:VEVENT
DTSTART;TZID=America/Phoenix:20190708T173000
DTEND;TZID=America/Phoenix:20190708T183000
DTSTAMP:20260425T034439
CREATED:20190708T232522Z
LAST-MODIFIED:20190708T232522Z
UID:4644-1562607000-1562610600@www.mariposachc.net
SUMMARY:Yoga - Consulado de México
DESCRIPTION:
URL:https://www.mariposachc.net/event/yoga-consulado-de-mexico-2019-07-08/
LOCATION:Consulado General de México
CATEGORIES:Mind/Body
END:VEVENT
END:VCALENDAR