BEGIN:VCALENDAR
VERSION:2.0
PRODID:-//Mariposa Community Health Center - ECPv6.15.17.1//NONSGML v1.0//EN
CALSCALE:GREGORIAN
METHOD:PUBLISH
X-WR-CALNAME:Mariposa Community Health Center
X-ORIGINAL-URL:https://www.mariposachc.net
X-WR-CALDESC:Events for Mariposa Community Health Center
REFRESH-INTERVAL;VALUE=DURATION:PT1H
X-Robots-Tag:noindex
X-PUBLISHED-TTL:PT1H
BEGIN:VTIMEZONE
TZID:America/Phoenix
BEGIN:STANDARD
TZOFFSETFROM:-0700
TZOFFSETTO:-0700
TZNAME:MST
DTSTART:20180101T000000
END:STANDARD
END:VTIMEZONE
BEGIN:VEVENT
DTSTART;TZID=America/Phoenix:20190923T153000
DTEND;TZID=America/Phoenix:20190923T200000
DTSTAMP:20260421T031324
CREATED:20190912T205306Z
LAST-MODIFIED:20190912T211827Z
UID:4979-1569252600-1569268800@www.mariposachc.net
SUMMARY:Making Proud Choices
DESCRIPTION:Empowering teens to reduce unplanned pregnancies and HIV risk! \nTeens between 11 and 19 years old.
URL:https://www.mariposachc.net/event/making-proud-choices/
LOCATION:Downtown CHS Center\, 250 N Grand Ave\, Nogales\, AZ\, 85621\, United States
ATTACH;FMTTYPE=image/png:https://www.mariposachc.net/wp-content/uploads/2019/08/Making-Proud-Choices-Logo.png
END:VEVENT
BEGIN:VEVENT
DTSTART;TZID=America/Phoenix:20190920T160000
DTEND;TZID=America/Phoenix:20190920T190000
DTSTAMP:20260421T031324
CREATED:20190708T235719Z
LAST-MODIFIED:20190813T170921Z
UID:4683-1568995200-1569006000@www.mariposachc.net
SUMMARY:Farmers Market - Nogales "Little" Mercado
DESCRIPTION:Visit us in Downtown Nogales!\nTemporarily relocated: 250 N. Grand Ave
URL:https://www.mariposachc.net/event/farmers-market-nogales-little-mercado-2019-09-20/
LOCATION:Downtown Nogales\, 250 N. Grand Ave\, Nogales\, AZ\, 85621\, United States
ATTACH;FMTTYPE=image/jpeg:https://www.mariposachc.net/wp-content/uploads/2019/07/mercado-2.jpg
END:VEVENT
BEGIN:VEVENT
DTSTART;TZID=America/Phoenix:20190913T160000
DTEND;TZID=America/Phoenix:20190913T190000
DTSTAMP:20260421T031324
CREATED:20190708T235719Z
LAST-MODIFIED:20190813T170921Z
UID:4682-1568390400-1568401200@www.mariposachc.net
SUMMARY:Farmers Market - Nogales "Little" Mercado
DESCRIPTION:Visit us in Downtown Nogales!\nTemporarily relocated: 250 N. Grand Ave
URL:https://www.mariposachc.net/event/farmers-market-nogales-little-mercado-2019-09-13/
LOCATION:Downtown Nogales\, 250 N. Grand Ave\, Nogales\, AZ\, 85621\, United States
ATTACH;FMTTYPE=image/jpeg:https://www.mariposachc.net/wp-content/uploads/2019/07/mercado-2.jpg
END:VEVENT
BEGIN:VEVENT
DTSTART;TZID=America/Phoenix:20190906T160000
DTEND;TZID=America/Phoenix:20190906T190000
DTSTAMP:20260421T031324
CREATED:20190708T235719Z
LAST-MODIFIED:20190813T170921Z
UID:4681-1567785600-1567796400@www.mariposachc.net
SUMMARY:Farmers Market - Nogales "Little" Mercado
DESCRIPTION:Visit us in Downtown Nogales!\nTemporarily relocated: 250 N. Grand Ave
URL:https://www.mariposachc.net/event/farmers-market-nogales-little-mercado-2019-09-06/
LOCATION:Downtown Nogales\, 250 N. Grand Ave\, Nogales\, AZ\, 85621\, United States
ATTACH;FMTTYPE=image/jpeg:https://www.mariposachc.net/wp-content/uploads/2019/07/mercado-2.jpg
END:VEVENT
BEGIN:VEVENT
DTSTART;TZID=America/Phoenix:20190830T160000
DTEND;TZID=America/Phoenix:20190830T190000
DTSTAMP:20260421T031324
CREATED:20190708T235719Z
LAST-MODIFIED:20190813T170921Z
UID:4680-1567180800-1567191600@www.mariposachc.net
SUMMARY:Farmers Market - Nogales "Little" Mercado
DESCRIPTION:Visit us in Downtown Nogales!\nTemporarily relocated: 250 N. Grand Ave
URL:https://www.mariposachc.net/event/farmers-market-nogales-little-mercado-2019-08-30/
LOCATION:Downtown Nogales\, 250 N. Grand Ave\, Nogales\, AZ\, 85621\, United States
ATTACH;FMTTYPE=image/jpeg:https://www.mariposachc.net/wp-content/uploads/2019/07/mercado-2.jpg
END:VEVENT
BEGIN:VEVENT
DTSTART;TZID=America/Phoenix:20190825T100000
DTEND;TZID=America/Phoenix:20190825T143000
DTSTAMP:20260421T031324
CREATED:20190813T180934Z
LAST-MODIFIED:20190813T180934Z
UID:4972-1566727200-1566743400@www.mariposachc.net
SUMMARY:Making Proud Choices- Group 2
DESCRIPTION:Sexual health education classes for Teens ages 11-19 years old. \nParent Permission Required \nContact Arely Zavala to join!
URL:https://www.mariposachc.net/event/making-proud-choices-group-2-2019-08-25/
LOCATION:Downtown CHS Center\, 250 N Grand Ave\, Nogales\, AZ\, 85621\, United States
ATTACH;FMTTYPE=image/png:https://www.mariposachc.net/wp-content/uploads/2019/08/Making-Proud-Choices-Logo.png
ORGANIZER;CN="Arely Zavala":MAILTO:azavala@mariposachc.net
END:VEVENT
BEGIN:VEVENT
DTSTART;TZID=America/Phoenix:20190824T100000
DTEND;TZID=America/Phoenix:20190824T143000
DTSTAMP:20260421T031324
CREATED:20190813T180934Z
LAST-MODIFIED:20190813T180934Z
UID:4970-1566640800-1566657000@www.mariposachc.net
SUMMARY:Making Proud Choices- Group 2
DESCRIPTION:Sexual health education classes for Teens ages 11-19 years old. \nParent Permission Required \nContact Arely Zavala to join!
URL:https://www.mariposachc.net/event/making-proud-choices-group-2/
LOCATION:Downtown CHS Center\, 250 N Grand Ave\, Nogales\, AZ\, 85621\, United States
ATTACH;FMTTYPE=image/png:https://www.mariposachc.net/wp-content/uploads/2019/08/Making-Proud-Choices-Logo.png
ORGANIZER;CN="Arely Zavala":MAILTO:azavala@mariposachc.net
END:VEVENT
BEGIN:VEVENT
DTSTART;TZID=America/Phoenix:20190823T160000
DTEND;TZID=America/Phoenix:20190823T190000
DTSTAMP:20260421T031324
CREATED:20190708T235719Z
LAST-MODIFIED:20190813T170921Z
UID:4679-1566576000-1566586800@www.mariposachc.net
SUMMARY:Farmers Market - Nogales "Little" Mercado
DESCRIPTION:Visit us in Downtown Nogales!\nTemporarily relocated: 250 N. Grand Ave
URL:https://www.mariposachc.net/event/farmers-market-nogales-little-mercado-2019-08-23/
LOCATION:Downtown Nogales\, 250 N. Grand Ave\, Nogales\, AZ\, 85621\, United States
ATTACH;FMTTYPE=image/jpeg:https://www.mariposachc.net/wp-content/uploads/2019/07/mercado-2.jpg
END:VEVENT
BEGIN:VEVENT
DTSTART;TZID=America/Phoenix:20190822T170000
DTEND;TZID=America/Phoenix:20190822T210000
DTSTAMP:20260421T031324
CREATED:20190813T162631Z
LAST-MODIFIED:20190813T164115Z
UID:4856-1566493200-1566507600@www.mariposachc.net
SUMMARY:Juntos Contra el Cáncer
DESCRIPTION:Breast Cancer Support Group \nContact Conchita Somoza to join! \n 
URL:https://www.mariposachc.net/event/juntos-contra-el-cancer/
LOCATION:Bowman Senior Residencies
CATEGORIES:Classes
ATTACH;FMTTYPE=image/png:https://www.mariposachc.net/wp-content/uploads/2019/08/breast-cancer-ribbon.png
END:VEVENT
BEGIN:VEVENT
DTSTART;TZID=America/Phoenix:20190822T103000
DTEND;TZID=America/Phoenix:20190822T120000
DTSTAMP:20260421T031324
CREATED:20190813T172901Z
LAST-MODIFIED:20190813T172916Z
UID:4946-1566469800-1566475200@www.mariposachc.net
SUMMARY:Happy Smiles
DESCRIPTION:Free dental screening for children 0-5 years old and pregnant women. \nFree fluoride application for children 0-5 years old.
URL:https://www.mariposachc.net/event/happy-smiles-2019-08-22/
LOCATION:MCHC PEDS
ATTACH;FMTTYPE=image/png:https://www.mariposachc.net/wp-content/uploads/2019/08/happy-smiles.png
ORGANIZER;CN="Denisse Romero":MAILTO:dromero@mariposachc.net
END:VEVENT
BEGIN:VEVENT
DTSTART;TZID=America/Phoenix:20190822T090000
DTEND;TZID=America/Phoenix:20190822T100000
DTSTAMP:20260421T031324
CREATED:20190813T173351Z
LAST-MODIFIED:20190813T173351Z
UID:4956-1566464400-1566468000@www.mariposachc.net
SUMMARY:Happy Smiles- MCHC Rio Rico
DESCRIPTION:Free dental screening for children 0-5 years old and pregnant women. \nFree fluoride application to children 0-5 years old.
URL:https://www.mariposachc.net/event/happy-smiles-mchc-rio-rico-2019-08-22/
LOCATION:MCHC Rio Rico
ATTACH;FMTTYPE=image/png:https://www.mariposachc.net/wp-content/uploads/2019/08/happy-smiles.png
ORGANIZER;CN="Denisse Romero":MAILTO:dromero@mariposachc.net
END:VEVENT
BEGIN:VEVENT
DTSTART;TZID=America/Phoenix:20190821T103000
DTEND;TZID=America/Phoenix:20190821T120000
DTSTAMP:20260421T031324
CREATED:20190813T172901Z
LAST-MODIFIED:20190813T172916Z
UID:4945-1566383400-1566388800@www.mariposachc.net
SUMMARY:Happy Smiles
DESCRIPTION:Free dental screening for children 0-5 years old and pregnant women. \nFree fluoride application for children 0-5 years old.
URL:https://www.mariposachc.net/event/happy-smiles-2019-08-21/
LOCATION:MCHC PEDS
ATTACH;FMTTYPE=image/png:https://www.mariposachc.net/wp-content/uploads/2019/08/happy-smiles.png
ORGANIZER;CN="Denisse Romero":MAILTO:dromero@mariposachc.net
END:VEVENT
BEGIN:VEVENT
DTSTART;TZID=America/Phoenix:20190821T090000
DTEND;TZID=America/Phoenix:20190821T100000
DTSTAMP:20260421T031324
CREATED:20190813T173351Z
LAST-MODIFIED:20190813T173351Z
UID:4955-1566378000-1566381600@www.mariposachc.net
SUMMARY:Happy Smiles- MCHC Rio Rico
DESCRIPTION:Free dental screening for children 0-5 years old and pregnant women. \nFree fluoride application to children 0-5 years old.
URL:https://www.mariposachc.net/event/happy-smiles-mchc-rio-rico-2019-08-21/
LOCATION:MCHC Rio Rico
ATTACH;FMTTYPE=image/png:https://www.mariposachc.net/wp-content/uploads/2019/08/happy-smiles.png
ORGANIZER;CN="Denisse Romero":MAILTO:dromero@mariposachc.net
END:VEVENT
BEGIN:VEVENT
DTSTART;TZID=America/Phoenix:20190820T144500
DTEND;TZID=America/Phoenix:20190820T191500
DTSTAMP:20260421T031324
CREATED:20190813T180611Z
LAST-MODIFIED:20190813T180734Z
UID:4966-1566312300-1566328500@www.mariposachc.net
SUMMARY:Making Proud Choices- Group 1
DESCRIPTION:Sexual health education classes for Teens ages 11-19 years old. \nParent Permission Required \nContact Arely Zavala to join! \n  \n 
URL:https://www.mariposachc.net/event/making-proud-choices-group-1-2019-08-20/
LOCATION:Downtown CHS Center\, 250 N Grand Ave\, Nogales\, AZ\, 85621\, United States
CATEGORIES:Classes
ATTACH;FMTTYPE=image/png:https://www.mariposachc.net/wp-content/uploads/2019/08/Making-Proud-Choices-Logo.png
ORGANIZER;CN="Arely Zavala":MAILTO:azavala@mariposachc.net
END:VEVENT
BEGIN:VEVENT
DTSTART;TZID=America/Phoenix:20190819T144500
DTEND;TZID=America/Phoenix:20190819T191500
DTSTAMP:20260421T031324
CREATED:20190813T180611Z
LAST-MODIFIED:20190813T180733Z
UID:4962-1566225900-1566242100@www.mariposachc.net
SUMMARY:Making Proud Choices- Group 1
DESCRIPTION:Sexual health education classes for Teens ages 11-19 years old. \nParent Permission Required \nContact Arely Zavala to join! \n  \n 
URL:https://www.mariposachc.net/event/making-proud-choices-group-1/
LOCATION:Downtown CHS Center\, 250 N Grand Ave\, Nogales\, AZ\, 85621\, United States
CATEGORIES:Classes
ATTACH;FMTTYPE=image/png:https://www.mariposachc.net/wp-content/uploads/2019/08/Making-Proud-Choices-Logo.png
ORGANIZER;CN="Arely Zavala":MAILTO:azavala@mariposachc.net
END:VEVENT
BEGIN:VEVENT
DTSTART;TZID=America/Phoenix:20190816T160000
DTEND;TZID=America/Phoenix:20190816T190000
DTSTAMP:20260421T031324
CREATED:20190708T235719Z
LAST-MODIFIED:20190813T170921Z
UID:4678-1565971200-1565982000@www.mariposachc.net
SUMMARY:Farmers Market - Nogales "Little" Mercado
DESCRIPTION:Visit us in Downtown Nogales!\nTemporarily relocated: 250 N. Grand Ave
URL:https://www.mariposachc.net/event/farmers-market-nogales-little-mercado-2019-08-16/
LOCATION:Downtown Nogales\, 250 N. Grand Ave\, Nogales\, AZ\, 85621\, United States
ATTACH;FMTTYPE=image/jpeg:https://www.mariposachc.net/wp-content/uploads/2019/07/mercado-2.jpg
END:VEVENT
BEGIN:VEVENT
DTSTART;TZID=America/Phoenix:20190814T093000
DTEND;TZID=America/Phoenix:20190814T110000
DTSTAMP:20260421T031324
CREATED:20190813T173748Z
LAST-MODIFIED:20190813T173748Z
UID:4957-1565775000-1565780400@www.mariposachc.net
SUMMARY:Happy Smiles -Downtown CHS Center
DESCRIPTION:Free dental screening for children 0-5 years old and pregnant women. \nFree fluoride application for children 0-5 years old.
URL:https://www.mariposachc.net/event/happy-smiles-downtown-chs-center/
LOCATION:Downtown CHS Center\, 250 N Grand Ave\, Nogales\, AZ\, 85621\, United States
ATTACH;FMTTYPE=image/png:https://www.mariposachc.net/wp-content/uploads/2019/08/happy-smiles.png
ORGANIZER;CN="Denisse Romero":MAILTO:dromero@mariposachc.net
END:VEVENT
BEGIN:VEVENT
DTSTART;TZID=America/Phoenix:20190809T160000
DTEND;TZID=America/Phoenix:20190809T190000
DTSTAMP:20260421T031324
CREATED:20190708T235719Z
LAST-MODIFIED:20190709T000130Z
UID:4677-1565366400-1565377200@www.mariposachc.net
SUMMARY:Farmers Market - Nogales "Little" Mercado
DESCRIPTION:Visit us in Downtown Nogales!\nTemporarily relocated: 250 N. Grand Ave
URL:https://www.mariposachc.net/event/farmers-market-nogales-little-mercado-2019-08-09/
LOCATION:Downtown Nogales\, 250 N. Grand Ave\, Nogales\, AZ\, 85621\, United States
END:VEVENT
BEGIN:VEVENT
DTSTART;TZID=America/Phoenix:20190802T160000
DTEND;TZID=America/Phoenix:20190802T190000
DTSTAMP:20260421T031324
CREATED:20190708T235719Z
LAST-MODIFIED:20190709T000130Z
UID:4676-1564761600-1564772400@www.mariposachc.net
SUMMARY:Farmers Market - Nogales "Little" Mercado
DESCRIPTION:Visit us in Downtown Nogales!\nTemporarily relocated: 250 N. Grand Ave
URL:https://www.mariposachc.net/event/farmers-market-nogales-little-mercado-2019-08-02/
LOCATION:Downtown Nogales\, 250 N. Grand Ave\, Nogales\, AZ\, 85621\, United States
END:VEVENT
BEGIN:VEVENT
DTSTART;TZID=America/Phoenix:20190801T080000
DTEND;TZID=America/Phoenix:20190801T170000
DTSTAMP:20260421T031324
CREATED:20190726T162345Z
LAST-MODIFIED:20190726T162507Z
UID:4759-1564646400-1564678800@www.mariposachc.net
SUMMARY:Toddlers 2-3
DESCRIPTION:More information coming soon!! \ntoddler-ages-2-3 (Used for 2-3\, shows in application under year 2)
URL:https://www.mariposachc.net/event/toddlers-2-3/
CATEGORIES:Birth to Five
ATTACH;FMTTYPE=image/jpeg:https://www.mariposachc.net/wp-content/uploads/2013/02/image_02.jpg
END:VEVENT
BEGIN:VEVENT
DTSTART;TZID=America/Phoenix:20190731T173000
DTEND;TZID=America/Phoenix:20190731T183000
DTSTAMP:20260421T031324
CREATED:20190708T230206Z
LAST-MODIFIED:20190708T230206Z
UID:4604-1564594200-1564597800@www.mariposachc.net
SUMMARY:Zumba - Consulado General de México
DESCRIPTION:
URL:https://www.mariposachc.net/event/zumba-consulado-general-de-mexico-2019-07-31-2/
LOCATION:Consulado General de México
CATEGORIES:Fitness
END:VEVENT
BEGIN:VEVENT
DTSTART;TZID=America/Phoenix:20190731T103000
DTEND;TZID=America/Phoenix:20190731T113000
DTSTAMP:20260421T031324
CREATED:20190708T230206Z
LAST-MODIFIED:20190708T230206Z
UID:4603-1564569000-1564572600@www.mariposachc.net
SUMMARY:Zumba - Consulado General de México
DESCRIPTION:
URL:https://www.mariposachc.net/event/zumba-consulado-general-de-mexico-2019-07-31/
LOCATION:Consulado General de México
CATEGORIES:Fitness
END:VEVENT
BEGIN:VEVENT
DTSTART;TZID=America/Phoenix:20190731T100000
DTEND;TZID=America/Phoenix:20190731T110000
DTSTAMP:20260421T031324
CREATED:20190708T230951Z
LAST-MODIFIED:20190708T230951Z
UID:4620-1564567200-1564570800@www.mariposachc.net
SUMMARY:Aerobics - Rio Rico Community Center
DESCRIPTION:
URL:https://www.mariposachc.net/event/aerobics-rio-rico-community-center-2019-07-31/
LOCATION:Rio Rico Community Center\, 391 Avenida Coatimundi\, Rio Rico\, AZ\, 85648\, United States
CATEGORIES:Fitness
END:VEVENT
BEGIN:VEVENT
DTSTART;TZID=America/Phoenix:20190731T090000
DTEND;TZID=America/Phoenix:20190731T120000
DTSTAMP:20260421T031324
CREATED:20190709T160900Z
LAST-MODIFIED:20190709T160900Z
UID:4734-1564563600-1564574400@www.mariposachc.net
SUMMARY:Happy Smile
DESCRIPTION:Dental Screening for kids 0-5 years and pregnant women.\nFlouride application for kids 0-5 years.
URL:https://www.mariposachc.net/event/happy-smile-2019-07-31/
LOCATION:MCHC PEDS
CATEGORIES:Dental
END:VEVENT
BEGIN:VEVENT
DTSTART;TZID=America/Phoenix:20190731T080000
DTEND;TZID=America/Phoenix:20190731T170000
DTSTAMP:20260421T031324
CREATED:20190726T162418Z
LAST-MODIFIED:20190726T162435Z
UID:4761-1564560000-1564592400@www.mariposachc.net
SUMMARY:Your Preschooler
DESCRIPTION:More information coming soon!! \nyour-preschooler (Used for Ages 3-5\, shows in application as Year 3-5)
URL:https://www.mariposachc.net/event/your-preschooler/
CATEGORIES:Birth to Five
ATTACH;FMTTYPE=image/jpeg:https://www.mariposachc.net/wp-content/uploads/2013/02/image_02.jpg
END:VEVENT
BEGIN:VEVENT
DTSTART;TZID=America/Phoenix:20190730T173000
DTEND;TZID=America/Phoenix:20190730T183000
DTSTAMP:20260421T031324
CREATED:20190708T232522Z
LAST-MODIFIED:20190708T232522Z
UID:4655-1564507800-1564511400@www.mariposachc.net
SUMMARY:Yoga - Consulado de México
DESCRIPTION:
URL:https://www.mariposachc.net/event/yoga-consulado-de-mexico-2019-07-30-2/
LOCATION:Consulado General de México
CATEGORIES:Mind/Body
END:VEVENT
BEGIN:VEVENT
DTSTART;TZID=America/Phoenix:20190730T103000
DTEND;TZID=America/Phoenix:20190730T113000
DTSTAMP:20260421T031324
CREATED:20190708T232522Z
LAST-MODIFIED:20190708T232522Z
UID:4654-1564482600-1564486200@www.mariposachc.net
SUMMARY:Yoga - Consulado de México
DESCRIPTION:
URL:https://www.mariposachc.net/event/yoga-consulado-de-mexico-2019-07-30/
LOCATION:Consulado General de México
CATEGORIES:Mind/Body
END:VEVENT
BEGIN:VEVENT
DTSTART;TZID=America/Phoenix:20190730T100000
DTEND;TZID=America/Phoenix:20190730T110000
DTSTAMP:20260421T031324
CREATED:20190708T230532Z
LAST-MODIFIED:20190708T230532Z
UID:4610-1564480800-1564484400@www.mariposachc.net
SUMMARY:Aerobics - Bowman Senior Residences
DESCRIPTION:
URL:https://www.mariposachc.net/event/aerobics-bowman-senior-residences-2019-07-30/
LOCATION:Bowman Senior Residencies
CATEGORIES:Fitness
END:VEVENT
BEGIN:VEVENT
DTSTART;TZID=America/Phoenix:20190730T090000
DTEND;TZID=America/Phoenix:20190730T100000
DTSTAMP:20260421T031324
CREATED:20190708T231634Z
LAST-MODIFIED:20190708T231634Z
UID:4630-1564477200-1564480800@www.mariposachc.net
SUMMARY:Yoga - Bowman Senior Residencies
DESCRIPTION:
URL:https://www.mariposachc.net/event/yoga-bowman-senior-residencies-2019-07-30/
LOCATION:Bowman Senior Residencies
CATEGORIES:Mind/Body
END:VEVENT
BEGIN:VEVENT
DTSTART;TZID=America/Phoenix:20190730T080000
DTEND;TZID=America/Phoenix:20190730T170000
DTSTAMP:20260421T031324
CREATED:20190726T162213Z
LAST-MODIFIED:20190726T162213Z
UID:4755-1564473600-1564506000@www.mariposachc.net
SUMMARY:Your Infant
DESCRIPTION:More information coming soon!! \nyour-infant (Used for age 0-1\, Shows in Infant Title in Application)
URL:https://www.mariposachc.net/event/your-infant/
CATEGORIES:Birth to Five
ATTACH;FMTTYPE=image/jpeg:https://www.mariposachc.net/wp-content/uploads/2013/02/image_02.jpg
END:VEVENT
END:VCALENDAR